BEGIN:VCALENDAR
PRODID:brasil.gov.agenda
VERSION:1.0
BEGIN:VEVENT
DTSTART:20201201T140000Z
DTEND:20201201T180000Z
DCREATED:20201201T113758Z
UID:Compromisso-e21eb4a0b7f14b64a287dbe9b73862d4
SEQUENCE:0
LAST-MODIFIED:20201201T113758Z
SUMMARY:Despachos Internos
LOCATION:Reitoria
PRIORITY:3
TRANSP:0
END:VEVENT
END:VCALENDAR
