BEGIN:VCALENDAR
PRODID:brasil.gov.agenda
VERSION:1.0
BEGIN:VEVENT
DTSTART:20201127T080000Z
DTEND:20201127T100000Z
DCREATED:20201127T113241Z
UID:Compromisso-7e4062bc2c7b458eb9f186c4435d4447
SEQUENCE:0
LAST-MODIFIED:20201127T113554Z
SUMMARY:Reunião com a Secretaria dos Conselhos
DESCRIPTION:Elaboração de pauta Consu
LOCATION:Reitoria
PRIORITY:3
TRANSP:0
END:VEVENT
END:VCALENDAR
