BEGIN:VCALENDAR
PRODID:brasil.gov.agenda
VERSION:1.0
BEGIN:VEVENT
DTSTART:20201126T080000Z
DTEND:20201126T120000Z
DCREATED:20201126T115229Z
UID:Compromisso-efd70f6f99dd441b9b2416a2f2ebabeb
SEQUENCE:0
LAST-MODIFIED:20201126T115229Z
SUMMARY:Despachos Internos
LOCATION:Reitoria
PRIORITY:3
TRANSP:0
END:VEVENT
END:VCALENDAR
