BEGIN:VCALENDAR
PRODID:brasil.gov.agenda
VERSION:1.0
BEGIN:VEVENT
DTSTART:20201125T140000Z
DTEND:20201125T180000Z
DCREATED:20201125T112322Z
UID:Compromisso-f83433722f5f41b0924f51024ec9651f
SEQUENCE:0
LAST-MODIFIED:20201125T112322Z
SUMMARY:224ª reunião\, sendo a 135ª sessão em caráter ordinário do Conselho Universitário
LOCATION:Reitoria
PRIORITY:3
TRANSP:0
END:VEVENT
END:VCALENDAR
