BEGIN:VCALENDAR
PRODID:brasil.gov.agenda
VERSION:1.0
BEGIN:VEVENT
DTSTART:20201119T080000Z
DTEND:20201119T180000Z
DCREATED:20201119T115751Z
UID:Compromisso-30a5d56615ce4f68a4af03249e978b08
SEQUENCE:0
LAST-MODIFIED:20201119T115913Z
SUMMARY:Despachos Internos
LOCATION:Reitoria
PRIORITY:3
TRANSP:0
END:VEVENT
END:VCALENDAR
