BEGIN:VCALENDAR
PRODID:brasil.gov.agenda
VERSION:1.0
BEGIN:VEVENT
DTSTART:20201116T080000Z
DTEND:20201116T180000Z
DCREATED:20201111T192221Z
UID:Compromisso-58c95edefd924d9fbe5d3a7f1f596eb1
SEQUENCE:0
LAST-MODIFIED:20201116T114717Z
SUMMARY:Despachos Internos
LOCATION:Reitoria
PRIORITY:3
TRANSP:0
END:VEVENT
END:VCALENDAR
