BEGIN:VCALENDAR
PRODID:brasil.gov.agenda
VERSION:1.0
BEGIN:VEVENT
DTSTART:20201113T000000Z
DTEND:20201113T000000Z
DCREATED:20201111T192044Z
UID:Compromisso-7b2edc035a6c45a2bb043c31332bcbac
SEQUENCE:0
LAST-MODIFIED:20201111T192118Z
SUMMARY:Férias regulamentares
PRIORITY:3
TRANSP:0
END:VEVENT
END:VCALENDAR
