BEGIN:VCALENDAR
PRODID:brasil.gov.agenda
VERSION:1.0
BEGIN:VEVENT
DTSTART:20201111T000000Z
DTEND:20201111T000000Z
DCREATED:20201111T191901Z
UID:Compromisso-12c443a2766d46329ff728691ac5dade
SEQUENCE:0
LAST-MODIFIED:20201111T191901Z
SUMMARY:Férias regulamentares
PRIORITY:3
TRANSP:0
END:VEVENT
END:VCALENDAR
