BEGIN:VCALENDAR
PRODID:brasil.gov.agenda
VERSION:1.0
BEGIN:VEVENT
DTSTART:20201110T000000Z
DTEND:20201110T000000Z
DCREATED:20201111T191758Z
UID:Compromisso-e10760a808794a7e83a07bf3ffd9c5e5
SEQUENCE:0
LAST-MODIFIED:20201111T191819Z
SUMMARY:Férias regulamentares
PRIORITY:3
TRANSP:0
END:VEVENT
END:VCALENDAR
