BEGIN:VCALENDAR
PRODID:brasil.gov.agenda
VERSION:1.0
BEGIN:VEVENT
DTSTART:20201109T000000Z
DTEND:20201109T000000Z
DCREATED:20201106T171439Z
UID:Compromisso-4fb5275211a94de8854c3d18aa008b03
SEQUENCE:0
LAST-MODIFIED:20201106T171440Z
SUMMARY:Férias regulamentares
LOCATION:Reitoria
PRIORITY:3
TRANSP:0
END:VEVENT
END:VCALENDAR
