BEGIN:VCALENDAR
PRODID:brasil.gov.agenda
VERSION:1.0
BEGIN:VEVENT
DTSTART:20201106T000000Z
DTEND:20201106T000000Z
DCREATED:20201106T171216Z
UID:Compromisso-5c3232ab9a47428cb53915a117e5f9c2
SEQUENCE:0
LAST-MODIFIED:20201106T171216Z
SUMMARY:Férias regulamentares
LOCATION:Reitoria
PRIORITY:3
TRANSP:0
END:VEVENT
END:VCALENDAR
