BEGIN:VCALENDAR
PRODID:brasil.gov.agenda
VERSION:1.0
BEGIN:VEVENT
DTSTART:20201105T000000Z
DTEND:20201105T000000Z
DCREATED:20201103T131426Z
UID:Compromisso-d1a6e2ebf3ec48b68eb1655dba9a4640
SEQUENCE:0
LAST-MODIFIED:20201103T131426Z
SUMMARY:Férias regulamentares
PRIORITY:3
TRANSP:0
END:VEVENT
END:VCALENDAR
