BEGIN:VCALENDAR
PRODID:brasil.gov.agenda
VERSION:1.0
BEGIN:VEVENT
DTSTART:20201030T080000Z
DTEND:20201030T180000Z
DCREATED:20201023T113936Z
UID:Compromisso-cc958b822a854a8aa1eab2c4818c88f8
SEQUENCE:0
LAST-MODIFIED:20201031T154726Z
SUMMARY:Ponto facultativo - OFÍCIO-CIRCULAR Nº 46/2020/CHEFIA/SE/SE-MEC
PRIORITY:3
TRANSP:0
END:VEVENT
END:VCALENDAR
