BEGIN:VCALENDAR
PRODID:brasil.gov.agenda
VERSION:1.0
BEGIN:VEVENT
DTSTART:20201027T080000Z
DTEND:20201027T180000Z
DCREATED:20201023T113806Z
UID:Compromisso-b454b7babbf74b4cb7b067e478406ccc
SEQUENCE:0
LAST-MODIFIED:20201023T113806Z
SUMMARY:Despachos Internos
PRIORITY:3
TRANSP:0
END:VEVENT
END:VCALENDAR
