BEGIN:VCALENDAR
PRODID:brasil.gov.agenda
VERSION:1.0
BEGIN:VEVENT
DTSTART:20201026T150000Z
DTEND:20201026T170000Z
DCREATED:20201026T113854Z
UID:Compromisso-630e3f1cafef4cf5a54ab90971588fa5
SEQUENCE:0
LAST-MODIFIED:20201026T114035Z
SUMMARY:Reunião Ouvidoria
DESCRIPTION:Alimentação de Monitoramento - CGU - Unidade de Correiç
 ão
LOCATION:Reitoria
PRIORITY:3
TRANSP:0
END:VEVENT
END:VCALENDAR
