BEGIN:VCALENDAR
PRODID:brasil.gov.agenda
VERSION:1.0
BEGIN:VEVENT
DTSTART:20201026T140000Z
DTEND:20201026T150000Z
DCREATED:20201026T112731Z
UID:Compromisso-1748465f86ea4231a8eb19c621882a09
SEQUENCE:0
LAST-MODIFIED:20201026T112731Z
SUMMARY:Reunião com o Instituto de Ciência e Tecnologia (ICT)
DESCRIPTION:Demanda Interna
LOCATION:Reitoria
PRIORITY:3
TRANSP:0
END:VEVENT
END:VCALENDAR
