BEGIN:VCALENDAR
PRODID:brasil.gov.agenda
VERSION:1.0
BEGIN:VEVENT
DTSTART:20201026T080000Z
DTEND:20201026T180000Z
DCREATED:20201016T194801Z
UID:Compromisso-e14a470e9d4f4fc7a387a6f0a0b16f6e
SEQUENCE:0
LAST-MODIFIED:20201023T113721Z
SUMMARY:Despachos Internos
PRIORITY:3
TRANSP:0
END:VEVENT
END:VCALENDAR
