BEGIN:VCALENDAR
PRODID:brasil.gov.agenda
VERSION:1.0
BEGIN:VEVENT
DTSTART:20201023T080000Z
DTEND:20201023T170000Z
DCREATED:20201016T194645Z
UID:Compromisso-446544155d704b3e90d11d1656fd9912
SEQUENCE:0
LAST-MODIFIED:20201023T113403Z
SUMMARY:Despachos Internos
LOCATION:Reitoria
PRIORITY:3
TRANSP:0
END:VEVENT
END:VCALENDAR
