BEGIN:VCALENDAR
PRODID:brasil.gov.agenda
VERSION:1.0
BEGIN:VEVENT
DTSTART:20201018T000000Z
DTEND:20201018T000000Z
DCREATED:20201016T194507Z
UID:Compromisso-a1be452df93b4d228d5dde1c26b538c7
SEQUENCE:0
LAST-MODIFIED:20201016T194507Z
SUMMARY:Férias regulamentares
PRIORITY:3
TRANSP:0
END:VEVENT
END:VCALENDAR
