BEGIN:VCALENDAR
PRODID:brasil.gov.agenda
VERSION:1.0
BEGIN:VEVENT
DTSTART:20201017T000000Z
DTEND:20201017T000000Z
DCREATED:20201016T194423Z
UID:Compromisso-727779f5f4fe435795cdbec9a8afa708
SEQUENCE:0
LAST-MODIFIED:20201016T194423Z
SUMMARY:Férias regulamentares
PRIORITY:3
TRANSP:0
END:VEVENT
END:VCALENDAR
