BEGIN:VCALENDAR
PRODID:brasil.gov.agenda
VERSION:1.0
BEGIN:VEVENT
DTSTART:20201016T000000Z
DTEND:20201016T000000Z
DCREATED:20201016T194407Z
UID:Compromisso-85b6927c19cb4dbcb592d9f03f8a27a7
SEQUENCE:0
LAST-MODIFIED:20201016T194407Z
SUMMARY:Férias regulamentares
PRIORITY:3
TRANSP:0
END:VEVENT
END:VCALENDAR
