BEGIN:VCALENDAR
PRODID:brasil.gov.agenda
VERSION:1.0
BEGIN:VEVENT
DTSTART:20201015T000000Z
DTEND:20201015T000000Z
DCREATED:20201016T194344Z
UID:Compromisso-383d7fa013be44fd963923294df0f946
SEQUENCE:0
LAST-MODIFIED:20201016T194344Z
SUMMARY:Férias regulamentares
PRIORITY:3
TRANSP:0
END:VEVENT
END:VCALENDAR
