BEGIN:VCALENDAR
PRODID:brasil.gov.agenda
VERSION:1.0
BEGIN:VEVENT
DTSTART:20200717T000000Z
DTEND:20200717T000000Z
DCREATED:20200629T182924Z
UID:Compromisso-64831024e7ae4703a17afd165d6ed3cd
SEQUENCE:0
LAST-MODIFIED:20200701T190702Z
SUMMARY:Término das férias regulamentares
PRIORITY:3
TRANSP:0
END:VEVENT
END:VCALENDAR
