BEGIN:VCALENDAR
PRODID:brasil.gov.agenda
VERSION:1.0
BEGIN:VEVENT
DTSTART:20200715T080000Z
DTEND:20200715T180000Z
DCREATED:20200701T190309Z
UID:Compromisso-d89df49eaec24bc99008d51593782e16
SEQUENCE:0
LAST-MODIFIED:20200701T190309Z
SUMMARY:Férias regulamentares
LOCATION:Reitoria\, Campus JK\, Diamantina/MG
PRIORITY:3
TRANSP:0
END:VEVENT
END:VCALENDAR
