BEGIN:VCALENDAR
PRODID:brasil.gov.agenda
VERSION:1.0
BEGIN:VEVENT
DTSTART:20200714T080000Z
DTEND:20200714T180000Z
DCREATED:20200701T190221Z
UID:Compromisso-c8f5a9f83dc64aada9a164745efcc96e
SEQUENCE:0
LAST-MODIFIED:20200701T190221Z
SUMMARY:Férias regulamentares
LOCATION:Reitoria\, Campus JK\, Diamantina/MG
PRIORITY:3
TRANSP:0
END:VEVENT
END:VCALENDAR
