BEGIN:VCALENDAR
PRODID:brasil.gov.agenda
VERSION:1.0
BEGIN:VEVENT
DTSTART:20200712T080000Z
DTEND:20200712T180000Z
DCREATED:20200701T190057Z
UID:Compromisso-a812c16499834584beef56711e71e462
SEQUENCE:0
LAST-MODIFIED:20200701T190057Z
SUMMARY:Férias regulamentares
LOCATION:Reitoria\, Campus JK\, Diamantina/MG
PRIORITY:3
TRANSP:0
END:VEVENT
END:VCALENDAR
