BEGIN:VCALENDAR
PRODID:brasil.gov.agenda
VERSION:1.0
BEGIN:VEVENT
DTSTART:20200709T080000Z
DTEND:20200709T180000Z
DCREATED:20200701T185827Z
UID:Compromisso-04ad1729884141239b2904d295ca3102
SEQUENCE:0
LAST-MODIFIED:20200701T185827Z
SUMMARY:Férias regulamentares
LOCATION:Reitoria\, Campus JK\, Diamantina/MG
PRIORITY:3
TRANSP:0
END:VEVENT
END:VCALENDAR
