BEGIN:VCALENDAR
PRODID:brasil.gov.agenda
VERSION:1.0
BEGIN:VEVENT
DTSTART:20200708T080000Z
DTEND:20200708T180000Z
DCREATED:20200701T185746Z
UID:Compromisso-006ee2866c554c71b8f1e5e64180314c
SEQUENCE:0
LAST-MODIFIED:20200701T185746Z
SUMMARY:Férias regulamentares
LOCATION:Reitoria\, Campus JK\, Diamantina/MG
PRIORITY:3
TRANSP:0
END:VEVENT
END:VCALENDAR
