BEGIN:VCALENDAR
PRODID:brasil.gov.agenda
VERSION:1.0
BEGIN:VEVENT
DTSTART:20200704T080000Z
DTEND:20200704T180000Z
DCREATED:20200630T173452Z
UID:Compromisso-a41e27d214a441348f46597924ae3705
SEQUENCE:0
LAST-MODIFIED:20200630T173512Z
SUMMARY:Férias regulamentares
LOCATION:Reitoria\, Campus JK\, Diamantina/MG
PRIORITY:3
TRANSP:0
END:VEVENT
END:VCALENDAR
