BEGIN:VCALENDAR
PRODID:brasil.gov.agenda
VERSION:1.0
BEGIN:VEVENT
DTSTART:20200702T080000Z
DTEND:20200702T180000Z
DCREATED:20200630T131736Z
UID:Compromisso-d1f3d1196a7d46b390f7a67d8b160490
SEQUENCE:0
LAST-MODIFIED:20200630T131736Z
SUMMARY:Férias regulamentares
LOCATION:Reitoria\, Campus JK\, Diamantina/MG
PRIORITY:3
TRANSP:0
END:VEVENT
END:VCALENDAR
