BEGIN:VCALENDAR
PRODID:brasil.gov.agenda
VERSION:1.0
BEGIN:VEVENT
DTSTART:20200629T080000Z
DTEND:20200729T170000Z
DCREATED:20200629T182321Z
UID:Compromisso-76fc4b9bc42645c2a1b724fd2df4c525
SEQUENCE:0
LAST-MODIFIED:20200629T191920Z
SUMMARY:Início das férias regulamentares
PRIORITY:3
TRANSP:0
END:VEVENT
END:VCALENDAR
