BEGIN:VCALENDAR
PRODID:brasil.gov.agenda
VERSION:1.0
BEGIN:VEVENT
DTSTART:20221110T000000Z
DTEND:20221110T000000Z
DCREATED:20221110T113347Z
UID:Compromisso-9d7c1c289ec44cd0b1ba698d093b23ef
SEQUENCE:0
LAST-MODIFIED:20221110T113347Z
SUMMARY:Férias Regulamentares
LOCATION:Reitoria
PRIORITY:3
TRANSP:0
END:VEVENT
END:VCALENDAR
