BEGIN:VCALENDAR
PRODID:brasil.gov.agenda
VERSION:1.0
BEGIN:VEVENT
DTSTART:20221109T000000Z
DTEND:20221109T000000Z
DCREATED:20221109T120545Z
UID:Compromisso-42f61e21cccb43dda927e30728ac5362
SEQUENCE:0
LAST-MODIFIED:20221109T120545Z
SUMMARY:Férias Regulamentares
LOCATION:Reitoria
PRIORITY:3
TRANSP:0
END:VEVENT
END:VCALENDAR
