BEGIN:VCALENDAR
PRODID:brasil.gov.agenda
VERSION:1.0
BEGIN:VEVENT
DTSTART:20221107T000000Z
DTEND:20221107T000000Z
DCREATED:20221108T172228Z
UID:Compromisso-ae7c433ceec04cd3bd5adb362526111d
SEQUENCE:0
LAST-MODIFIED:20221108T172228Z
SUMMARY:Férias Regulamentares
LOCATION:Reitoria
PRIORITY:3
TRANSP:0
END:VEVENT
END:VCALENDAR
