BEGIN:VCALENDAR
PRODID:brasil.gov.agenda
VERSION:1.0
BEGIN:VEVENT
DTSTART:20221104T000000Z
DTEND:20221104T000000Z
DCREATED:20221104T141448Z
UID:Compromisso-47c04780cd67495782ee2b3d78af27a7
SEQUENCE:0
LAST-MODIFIED:20221104T141448Z
SUMMARY:Férias Regulamentares
LOCATION:Reitoria
PRIORITY:3
TRANSP:0
END:VEVENT
END:VCALENDAR
