BEGIN:VCALENDAR
PRODID:brasil.gov.agenda
VERSION:1.0
BEGIN:VEVENT
DTSTART:20221103T000000Z
DTEND:20221103T000000Z
DCREATED:20221104T141404Z
UID:Compromisso-c1425802632e4e0cbf6ef2ab2be7a406
SEQUENCE:0
LAST-MODIFIED:20221104T141404Z
SUMMARY:Férias Regulamentares
LOCATION:Reitoria
PRIORITY:3
TRANSP:0
END:VEVENT
END:VCALENDAR
