BEGIN:VCALENDAR
PRODID:brasil.gov.agenda
VERSION:1.0
BEGIN:VEVENT
DTSTART:20221101T000000Z
DTEND:20221101T000000Z
DCREATED:20221104T141225Z
UID:Compromisso-07f68084924944759daadedcc1d297be
SEQUENCE:0
LAST-MODIFIED:20221104T141225Z
SUMMARY:Férias Regulamentares
LOCATION:Reitoria
PRIORITY:3
TRANSP:0
END:VEVENT
END:VCALENDAR
