BEGIN:VCALENDAR
PRODID:brasil.gov.agenda
VERSION:1.0
BEGIN:VEVENT
DTSTART:20221031T140000Z
DTEND:20221031T153000Z
DCREATED:20221104T140511Z
UID:Compromisso-6651841a3768495c90638b26000e1202
SEQUENCE:0
LAST-MODIFIED:20221104T140511Z
SUMMARY:Reunião Vice-Reitor e PROGRAD
DESCRIPTION:Situação dos Cursos da Àrea da Saúde
LOCATION:Reitoria
PRIORITY:3
TRANSP:0
END:VEVENT
END:VCALENDAR
