BEGIN:VCALENDAR
PRODID:brasil.gov.agenda
VERSION:1.0
BEGIN:VEVENT
DTSTART:20221031T080000Z
DTEND:20221031T120000Z
DCREATED:20221104T140428Z
UID:Compromisso-ee9f1f93cdad4b2180271f0f1cf16714
SEQUENCE:0
LAST-MODIFIED:20221104T140428Z
SUMMARY:Despachos Internos
LOCATION:Reitoria
PRIORITY:3
TRANSP:0
END:VEVENT
END:VCALENDAR
