BEGIN:VCALENDAR
PRODID:brasil.gov.agenda
VERSION:1.0
BEGIN:VEVENT
DTSTART:20221031T153000Z
DTEND:20221031T180000Z
DCREATED:20221104T140643Z
UID:Compromisso-7d9c8f81e202433eb447eb4f638c8d53
SEQUENCE:0
LAST-MODIFIED:20221104T140643Z
SUMMARY:Despachos Internos
LOCATION:Reitoria
PRIORITY:3
TRANSP:0
END:VEVENT
END:VCALENDAR
