BEGIN:VCALENDAR
PRODID:brasil.gov.agenda
VERSION:1.0
BEGIN:VEVENT
DTSTART:20221027T140000Z
DTEND:20221027T180000Z
DCREATED:20221104T134946Z
UID:Compromisso-64a9a02f32dc4047b688a479fa6bc5a7
SEQUENCE:0
LAST-MODIFIED:20221104T134946Z
SUMMARY:Despachos Internos
LOCATION:Reitoria
PRIORITY:3
TRANSP:0
END:VEVENT
END:VCALENDAR
