BEGIN:VCALENDAR
PRODID:brasil.gov.agenda
VERSION:1.0
BEGIN:VEVENT
DTSTART:20221026T140000Z
DTEND:20221026T180000Z
DCREATED:20221104T134835Z
UID:Compromisso-52f908f44cc94fc48083693daa2b5ae9
SEQUENCE:0
LAST-MODIFIED:20221104T134835Z
SUMMARY:Despachos Internos
LOCATION:Reitoria
PRIORITY:3
TRANSP:0
END:VEVENT
END:VCALENDAR
