BEGIN:VCALENDAR
PRODID:brasil.gov.agenda
VERSION:1.0
BEGIN:VEVENT
DTSTART:20221025T080000Z
DTEND:20221025T120000Z
DCREATED:20221104T134600Z
UID:Compromisso-91688b48095f4acdb302d4b4f4cc0781
SEQUENCE:0
LAST-MODIFIED:20221104T134600Z
SUMMARY:Despachos Internos
LOCATION:Reitoria
PRIORITY:3
TRANSP:0
END:VEVENT
END:VCALENDAR
