BEGIN:VCALENDAR
PRODID:brasil.gov.agenda
VERSION:1.0
BEGIN:VEVENT
DTSTART:20221021T080000Z
DTEND:20221021T120000Z
DCREATED:20221104T134259Z
UID:Compromisso-434a9f134a8e473eb13fdee02615ff28
SEQUENCE:0
LAST-MODIFIED:20221104T134259Z
SUMMARY:Despachos Internos
LOCATION:Reitoria
PRIORITY:3
TRANSP:0
END:VEVENT
END:VCALENDAR
