BEGIN:VCALENDAR
PRODID:brasil.gov.agenda
VERSION:1.0
BEGIN:VEVENT
DTSTART:20221018T140000Z
DTEND:20221018T153000Z
DCREATED:20221104T132053Z
UID:Compromisso-0a37cfa0b50742d98a8baf7c5113da2b
SEQUENCE:0
LAST-MODIFIED:20221104T132053Z
SUMMARY:Reunião Vice-Reitor e DGI
DESCRIPTION:Autodiagnostico TCU
LOCATION:Reitoria
PRIORITY:3
TRANSP:0
END:VEVENT
END:VCALENDAR
