BEGIN:VCALENDAR
PRODID:brasil.gov.agenda
VERSION:1.0
BEGIN:VEVENT
DTSTART:20221018T153000Z
DTEND:20221018T180000Z
DCREATED:20221104T132709Z
UID:Compromisso-3021a16eb56c40f69e43e4fac4abc0ca
SEQUENCE:0
LAST-MODIFIED:20221104T132709Z
SUMMARY:Despachos Internos
LOCATION:Reitoria
PRIORITY:3
TRANSP:0
END:VEVENT
END:VCALENDAR
