BEGIN:VCALENDAR
PRODID:brasil.gov.agenda
VERSION:1.0
BEGIN:VEVENT
DTSTART:20221017T143000Z
DTEND:20221017T160000Z
DCREATED:20221104T131803Z
UID:Compromisso-ed3be16edbd64df9b90fcd178d8c431d
SEQUENCE:0
LAST-MODIFIED:20221104T131803Z
SUMMARY:Reunião Reitor e Secretaria de Processos Adminsitrativos
LOCATION:Reitoria
PRIORITY:3
TRANSP:0
END:VEVENT
END:VCALENDAR
