BEGIN:VCALENDAR
PRODID:brasil.gov.agenda
VERSION:1.0
BEGIN:VEVENT
DTSTART:20221017T080000Z
DTEND:20221017T120000Z
DCREATED:20221104T131729Z
UID:Compromisso-ea81f828a3df4d189760091a01c9de87
SEQUENCE:0
LAST-MODIFIED:20221104T131729Z
SUMMARY:Despachos Internos
LOCATION:Reitoria
PRIORITY:3
TRANSP:0
END:VEVENT
END:VCALENDAR
