BEGIN:VCALENDAR
PRODID:brasil.gov.agenda
VERSION:1.0
BEGIN:VEVENT
DTSTART:20221014T080000Z
DTEND:20221014T120000Z
DCREATED:20221104T131544Z
UID:Compromisso-30e656ffd2e94acd90e7d2024fa8b362
SEQUENCE:0
LAST-MODIFIED:20221104T131544Z
SUMMARY:Despachos Internos
LOCATION:Reitoria
PRIORITY:3
TRANSP:0
END:VEVENT
END:VCALENDAR
