BEGIN:VCALENDAR
PRODID:brasil.gov.agenda
VERSION:1.0
BEGIN:VEVENT
DTSTART:20221013T080000Z
DTEND:20221013T120000Z
DCREATED:20221104T131302Z
UID:Compromisso-259efcf4cb8a42fda2b86578e6d6e336
SEQUENCE:0
LAST-MODIFIED:20221104T131357Z
SUMMARY:Despachos Internos
LOCATION:Reitoria
PRIORITY:3
TRANSP:0
END:VEVENT
END:VCALENDAR
